BEGIN:VCALENDAR
VERSION:2.0
PRODID:-//Theater im Pädagog - ECPv6.3.7//NONSGML v1.0//EN
CALSCALE:GREGORIAN
METHOD:PUBLISH
X-WR-CALNAME:Theater im Pädagog
X-ORIGINAL-URL:https://paedagogtheater.de
X-WR-CALDESC:Veranstaltungen für Theater im Pädagog
REFRESH-INTERVAL;VALUE=DURATION:PT1H
X-Robots-Tag:noindex
X-PUBLISHED-TTL:PT1H
BEGIN:VTIMEZONE
TZID:Europe/Berlin
BEGIN:DAYLIGHT
TZOFFSETFROM:+0100
TZOFFSETTO:+0200
TZNAME:CEST
DTSTART:20260329T010000
END:DAYLIGHT
BEGIN:STANDARD
TZOFFSETFROM:+0200
TZOFFSETTO:+0100
TZNAME:CET
DTSTART:20261025T010000
END:STANDARD
END:VTIMEZONE
BEGIN:VEVENT
DTSTART;TZID=Europe/Berlin:20260228T190000
DTEND;TZID=Europe/Berlin:20260228T233000
DTSTAMP:20260420T103000
CREATED:20260127T095020Z
LAST-MODIFIED:20260211T163931Z
UID:26558-1772305200-1772321400@paedagogtheater.de
SUMMARY:28.2.26 19 Uhr Saremo a Sanremo
DESCRIPTION:Das Festival di Sanremo ist das Musikereignis des Jahres in Italien – Tage voller Emotionen\, Musik und Spannung\, die das ganze Land vor den Fernseher locken!\nWir wollen gemeinsam den entscheidenden Abend verfolgen\, mitfiebern\, lachen und einfach italienisches Lebensgefühl genießen.\nKommt dazu und bringt gute Laune und einen kleinen Beitrag zum Buffet mit – Sanremo wartet! \nIl Festival di Sanremo è l’evento musicale dell’anno in Italia – giornate piene di emozioni\, musica e tensione che tengono tutto il Paese incollato alla televisione!\nVogliamo seguire insieme la serata decisiva\, tifare\, ridere e goderci un po’ di autentica atmosfera italiana.\nUnitevi a noi e portate buon umore e un piccolo contributo per il buffet – Sanremo vi aspetta!
URL:https://paedagogtheater.de/veranstaltungskalender/28-2-26-19-uhr-saremo-a-sanremo/
LOCATION:Hessen
ATTACH;FMTTYPE=application/pdf:https://paedagogtheater.de/wp-content/uploads/2026/01/SANREMO26.pdf
END:VEVENT
END:VCALENDAR