BEGIN:VCALENDAR
VERSION:2.0
PRODID:-//Theater im Pädagog - ECPv6.3.7//NONSGML v1.0//EN
CALSCALE:GREGORIAN
METHOD:PUBLISH
X-WR-CALNAME:Theater im Pädagog
X-ORIGINAL-URL:https://paedagogtheater.de
X-WR-CALDESC:Veranstaltungen für Theater im Pädagog
REFRESH-INTERVAL;VALUE=DURATION:PT1H
X-Robots-Tag:noindex
X-PUBLISHED-TTL:PT1H
BEGIN:VTIMEZONE
TZID:Europe/Berlin
BEGIN:DAYLIGHT
TZOFFSETFROM:+0100
TZOFFSETTO:+0200
TZNAME:CEST
DTSTART:20220327T010000
END:DAYLIGHT
BEGIN:STANDARD
TZOFFSETFROM:+0200
TZOFFSETTO:+0100
TZNAME:CET
DTSTART:20221030T010000
END:STANDARD
END:VTIMEZONE
BEGIN:VEVENT
DTSTART;TZID=Europe/Berlin:20221015T200000
DTEND;TZID=Europe/Berlin:20221015T220000
DTSTAMP:20260421T035733
CREATED:20220808T065310Z
LAST-MODIFIED:20220808T065310Z
UID:25068-1665864000-1665871200@paedagogtheater.de
SUMMARY:15.10.22  20 Uhr  "Aus dem Leben eines Taugenichts" Eigenproduktion TIP
DESCRIPTION:Nicht jeder Taugenichts tränkt sein Leben in Alkohol.DerTaugenichts bei Eichendorff aus der Spätromantik entdeckt die Wunder dieser Welt\,nachdem ihn sein Vater rausgeschmissen hat.Ganz nach dem Lied aus der Novelle”WemGott will rechte Gunst erweisen\, den schickt er in die weite Welt…“ Er vertraut ins Leben und geht auf Wanderschaft und lässt sich treiben grad wie es ihm gefällt.Natürlich spielt die Liebe die grosse Liebe auch eine wichtige Rolle.Wie ein Clown ein Hans im Glück stolpert er durchs Leben und freudig seinem Schicksal ergeben.Und wir erzählen die Irrungen und Wirrungen auf seiner Reise auf unsere Weise. \nRegie  Klaus Lavies \nSchauspieler  Richard Heath\, Peter Wilke\, Klaus Lavies Leben eines Taugenichts \nDer Eintritt ist frei/Spenden erbeten. \n Bitte vorher anmelden unter: Tel.06151-6601306 oder theaterimpaedagog@gmx.de \nBei schönem Wetter als Stationentheater unten und oben im Sommergarten.
URL:https://paedagogtheater.de/veranstaltungskalender/15-10-22-20-uhr-aus-dem-leben-eines-taugenichts-eigenproduktion-tip/
LOCATION:Theater im Pädagog\, Pädagogstraße 5\, Darmstadt\, Hessen\, 64283\, Deutschland
CATEGORIES:Theatergarten,Ticket Theater
ATTACH;FMTTYPE=image/jpeg:https://paedagogtheater.de/wp-content/uploads/2022/08/20220722_125105-scaled.jpg
ORGANIZER;CN="Theater im P%C3%A4dagog":MAILTO:theaterimpaedagog@gmx.de
END:VEVENT
END:VCALENDAR