BEGIN:VCALENDAR
VERSION:2.0
PRODID:-//Theater im Pädagog - ECPv6.3.7//NONSGML v1.0//EN
CALSCALE:GREGORIAN
METHOD:PUBLISH
X-ORIGINAL-URL:https://paedagogtheater.de
X-WR-CALDESC:Veranstaltungen für Theater im Pädagog
REFRESH-INTERVAL;VALUE=DURATION:PT1H
X-Robots-Tag:noindex
X-PUBLISHED-TTL:PT1H
BEGIN:VTIMEZONE
TZID:Europe/Berlin
BEGIN:DAYLIGHT
TZOFFSETFROM:+0100
TZOFFSETTO:+0200
TZNAME:CEST
DTSTART:20220327T010000
END:DAYLIGHT
BEGIN:STANDARD
TZOFFSETFROM:+0200
TZOFFSETTO:+0100
TZNAME:CET
DTSTART:20221030T010000
END:STANDARD
END:VTIMEZONE
BEGIN:VEVENT
DTSTART;TZID=Europe/Berlin:20220904T180000
DTEND;TZID=Europe/Berlin:20220904T200000
DTSTAMP:20260425T135500
CREATED:20220811T113229Z
LAST-MODIFIED:20220811T113229Z
UID:25100-1662314400-1662321600@paedagogtheater.de
SUMMARY:4.9.22  18 Uhr "Der Kaufmann von Venedig“gespielt von theaterinc
DESCRIPTION:  \nKomödie von William Shakespeare (1600) \nin einer Übersetzung von August Wilhelm Schlegel (1843/44) \nBearbeitete Fassung von Marvin Heppenheimer (2022) \n  \n„Glaub mir\, hätte ich so viel auf dem Spiel stehen wie du\, dann wäre der beste Teil \nvon meinem Herzen auswärts bei meiner Hoffnung.“ \n  \nBassanio bittet seinen besten Freund um ein Darlehen\, denn er möchte um die schöne Portia werben\, die jeden potenziellen Gemahl einer Prüfung unterzieht. Da Antonio das Geld aber selbst nicht aufbringen kann\, er seinen Freund aber um sprichwörtlich jeden Preis unterstützen möchte\, leiht er es sich bei seiner Konkurrentin Shylock\, einer gierigen Geschäftsfrau. Diese fordert jedoch als Sicherheit ein Stück seines Fleisches\, falls er den Kredit nicht fristgerecht zurückzahlen kann. Für seinen besten Freund willigt Antonio ein. Gleichzeitig kommt es zu einigen amourösen Verwicklungen\, die die Situation merklich verkomplizieren. Als dann auch noch die Handelsschiffe Antonios in einen Sturm geraten und er seine Schulden nicht an Shylock zurückzahlen kann\, fordert diese – wie zu erwarten – ihr Pfund Fleisch ein. Es kommt zum Gerichtsprozess. Nun will Bassanio\, der zurückgekehrt ist\, seinem Freund helfen\, da er durch seine Vermählung nun in der Lage ist\, die Schuldens seines Freundes zu tilgen. Doch Shylock beharrt auf ihren geforderten Preis. In eben diesem Prozess taucht wenig später ein in der Stadt unbekannter Anwalt auf\, der die Verhandlungen in eine völlig neue Richtung führt… \n  \nWilliam Shakespeares 1605 uraufgeführte Komödie „Der Kaufmann von Venedig“ blickt auf eine wechselhafte Rezeptionsgeschichte zurück. Im Laufe der Zeit wurden Shakespeare insbesondere antisemitische Tendenzen in seinem Werk vorgeworfen. Mit dieser nichtsdestotrotz immer noch aktuellen Thematik bricht diese Inszenierung und überführt den Konflikt zwischen Antonio und Shylock stattdessen in einen Kampf der Geschlechter. Ganz im Sinne der Shakespearschen Freude am Verkleiden und Täuschen erscheint uns Shylock nun nicht mehr als Geschäftsmann jüdischen Glaubens\, sondern als vermögende Karrierefrau mit hohen kapitalistischen Ambitionen. Ihr konträr gegenüber steht Portia\, die dem männlichen Geschlecht zwar nicht abgeneigt gegenübersteht\, sich ihm jedoch keinesfalls unterordnet und auf ihr persönliches Glück bedacht ist. Und so steht neben den klassischen Themen wie Geld\, Macht und Liebe auch die Frage nach Emanzipation im Raum\, während gleichzeitig die Geschlechter zu verschwimmen scheinen. \n  \nMitwirkende | Tim Albrecht – Dennis Bialucha – Dinah Divaris – Julia Haase – Melanie Herms – Angela Herzog – Laurin König – Niklas Neureuther – Petra Schlesinger – Elke Seipel – Yanna Vick – Jakob Walter – Silvia Zennia \n  \nRegie\, Bühne & Kostüme | Marvin Heppenheimer \n  \n  \nTICKETS: \n01.09.\, 20:00 (Premiere) \nhttps://www.ticketino.com/de/Event/Der-Kaufmann-von-Venedig-Premiere/167291 \n  \n02.09.\, 20:00 \nhttps://www.ticketino.com/de/Event/Der-Kaufmann-von-Venedig/167292 \n  \n04.09.\, 18:00 \nhttps://www.ticketino.com/de/Event/Der-Kaufmann-von-Venedig/167293 \n  \nGebündelt \nhttps://www.ticketino.com/de/EventGroup/Der-Kaufmann-von-Venedig/4064 \n  \n  \nHOMEPAGE: https://www.theaterinc.de/der-kaufmann-von-venedig \n  \n 
URL:https://paedagogtheater.de/veranstaltungskalender/4-9-22-18-uhr-der-kaufmann-von-venediggespielt-von-theaterinc/
LOCATION:Theater im Pädagog\, Pädagogstraße 5\, Darmstadt\, Hessen\, 64283\, Deutschland
CATEGORIES:Ticket Theater
ATTACH;FMTTYPE=image/jpeg:https://paedagogtheater.de/wp-content/uploads/2022/08/Design-Quer-1.jpg
END:VEVENT
END:VCALENDAR